BEGIN:VCALENDAR
VERSION:2.0
PRODID:-//Library Market//iCal Export//EN
BEGIN:VEVENT
SUMMARY:Murder Mystery
UID:36853
DTSTAMP:20260423T031200Z
DTSTART:20260719T180000Z
DTEND:20260719T190000Z
LOCATION:Livingston Public Library, 10 Robert Harp Dr., Livingston, NJ 070
 39, United States
ROOM: Program Room
DESCRIPTION:***Back by popular demand!***The Livingston Public Library inv
 ites you to a Murder Mystery, where we will all work together to solve a m
 urder. Prepare for an afternoon of fast-paced action, suspense, and unexpe
 cted plot twists. The program will be held on Sunday, July 19th from 2pm t
 o 4pm. Light refreshments will be served at the event.This event is open t
 o Livingston residents 18 and older and registration is required. Registra
 tion starts on Monday, June 29th at 10am. The event is sponsored by the Fr
 iends of the Livingston Public Library.Program details and character assig
 nments will be emailed to you before the program so please provide an emai
 l address at the time of registration. 
URL:https://livingston.librarycalendar.com/index.php/event/murder-mystery-
 36853
END:VEVENT
END:VCALENDAR
