BEGIN:VCALENDAR
VERSION:2.0
PRODID:-//Library Market//iCal Export//EN
BEGIN:VEVENT
SUMMARY:Tech Class: The Basics of Social Media
UID:36970
DTSTAMP:20260423T031200Z
DTSTART:20260521T230000Z
DTEND:20260522T000000Z
LOCATION:Livingston Public Library, 10 Robert Harp Dr., Livingston, NJ 070
 39, United States
ROOM: Tech Room
DESCRIPTION:This introductory session provides a practical overview of pop
 ular social media platforms and their essential features. Perfect for begi
 nners looking to navigate social media confidently and effectively.
URL:https://livingston.librarycalendar.com/index.php/event/tech-class-basi
 cs-social-media-36970
END:VEVENT
END:VCALENDAR
